BEGIN:VCALENDAR
VERSION:2.0
PRODID:spatie/icalendar-generator
DESCRIPTION:Events from Center for Disabilities Studies
X-WR-CALDESC:Events from Center for Disabilities Studies
REFRESH-INTERVAL;VALUE=DURATION:PT1440M
X-PUBLISHED-TTL:PT1440M
BEGIN:VTIMEZONE
TZID:America/New_York
BEGIN:STANDARD
DTSTART:20241103T020000Z
TZOFFSETFROM:-0400
TZOFFSETTO:-0500
END:STANDARD
BEGIN:DAYLIGHT
DTSTART:20250309T020000Z
TZOFFSETFROM:-0500
TZOFFSETTO:-0400
END:DAYLIGHT
END:VTIMEZONE
BEGIN:VTIMEZONE
TZID:UTC
BEGIN:STANDARD
DTSTART:20250726T191144Z
TZOFFSETFROM:+0000
TZOFFSETTO:+0000
END:STANDARD
END:VTIMEZONE
BEGIN:VEVENT
UID:1984-852
DTSTAMP:20260422T191144Z
SUMMARY:Lives Worth Living Screening &amp;amp\; Discussion
LOCATION:Audion\, The Tower at STAR 100 Discovery Blvd  Newark DE 19713
ORGANIZER;CN=jhgum:MAILTO:jhgum@udel.edu
DTSTART;TZID=America/New_York:20250314T120000
DTEND;TZID=America/New_York:20250314T133000
X-ALT-DESC;FMTTYPE=TEXT/HTML:Please note that this is exclusively an in-per
 son event. Light refreshments will be provided. Join us for a screening of
  Lives Worth Living\, a powerful documentary tracing the fight for disabil
 ity rights in America. Through rare archival footage and firsthand account
 s\, the film highlights the activists who paved the way for the Americans 
 with Disabilities&amp;hellip\;
CATEGORIES:All Events
URL;VALUE=URI:https://www.cds.udel.edu/events/lives-worth-living-screening-
 discussion/
METHOD:PUBLISH
END:VEVENT
END:VCALENDAR